BEGIN:VCALENDAR
VERSION:2.0
PRODID:-//Slovenský klub chovateľov pudlov - ECPv5.14.0.4//NONSGML v1.0//EN
CALSCALE:GREGORIAN
METHOD:PUBLISH
X-WR-CALNAME:Slovenský klub chovateľov pudlov
X-ORIGINAL-URL:https://pudelklub.sk
X-WR-CALDESC:Udalosti pre Slovenský klub chovateľov pudlov
BEGIN:VTIMEZONE
TZID:Europe/Bratislava
BEGIN:DAYLIGHT
TZOFFSETFROM:+0100
TZOFFSETTO:+0200
TZNAME:CEST
DTSTART:20260329T010000
END:DAYLIGHT
BEGIN:STANDARD
TZOFFSETFROM:+0200
TZOFFSETTO:+0100
TZNAME:CET
DTSTART:20261025T010000
END:STANDARD
END:VTIMEZONE
BEGIN:VEVENT
DTSTART;VALUE=DATE:20261023
DTEND;VALUE=DATE:20261026
DTSTAMP:20260426T031415
CREATED:20251120T163159Z
LAST-MODIFIED:20251120T163159Z
UID:12968-1792713600-1792972799@pudelklub.sk
SUMMARY:Danube Cacib Bratislava (3xCACIB)
DESCRIPTION:Info: https://www.skjshows.sk/danubecacib/
URL:https://pudelklub.sk/event/danube-cacib-bratislava-3xcacib-2/
LOCATION:Bratislava – Incheba\, Viedenská cesta 3\, Bratislava\, 85101\, Slovenská republika
CATEGORIES:Výstavy
END:VEVENT
END:VCALENDAR