BEGIN:VCALENDAR
VERSION:2.0
PRODID:-//Slovenský klub chovateľov pudlov - ECPv5.14.0.4//NONSGML v1.0//EN
CALSCALE:GREGORIAN
METHOD:PUBLISH
X-WR-CALNAME:Slovenský klub chovateľov pudlov
X-ORIGINAL-URL:https://pudelklub.sk
X-WR-CALDESC:Udalosti pre Slovenský klub chovateľov pudlov
BEGIN:VTIMEZONE
TZID:Europe/Bratislava
BEGIN:DAYLIGHT
TZOFFSETFROM:+0100
TZOFFSETTO:+0200
TZNAME:CEST
DTSTART:20260329T010000
END:DAYLIGHT
BEGIN:STANDARD
TZOFFSETFROM:+0200
TZOFFSETTO:+0100
TZNAME:CET
DTSTART:20261025T010000
END:STANDARD
END:VTIMEZONE
BEGIN:VEVENT
DTSTART;VALUE=DATE:20260821
DTEND;VALUE=DATE:20260824
DTSTAMP:20260425T235535
CREATED:20251120T163001Z
LAST-MODIFIED:20251120T163001Z
UID:12964-1787270400-1787529599@pudelklub.sk
SUMMARY:DuoDanube Bratislava (3xCACIB)
DESCRIPTION:Info: https://duodanube.sk/
URL:https://pudelklub.sk/event/duodanube-bratislava-3xcacib-2/
LOCATION:Bratislava – Závodisko\, Starohájska 29\, Bratislava\, 85269\, Slovenská republika
CATEGORIES:Výstavy
END:VEVENT
END:VCALENDAR