BEGIN:VCALENDAR
VERSION:2.0
PRODID:-//Slovenský klub chovateľov pudlov - ECPv5.14.0.4//NONSGML v1.0//EN
CALSCALE:GREGORIAN
METHOD:PUBLISH
X-WR-CALNAME:Slovenský klub chovateľov pudlov
X-ORIGINAL-URL:https://pudelklub.sk
X-WR-CALDESC:Udalosti pre Slovenský klub chovateľov pudlov
BEGIN:VTIMEZONE
TZID:Europe/Bratislava
BEGIN:DAYLIGHT
TZOFFSETFROM:+0100
TZOFFSETTO:+0200
TZNAME:CEST
DTSTART:20260329T010000
END:DAYLIGHT
BEGIN:STANDARD
TZOFFSETFROM:+0200
TZOFFSETTO:+0100
TZNAME:CET
DTSTART:20261025T010000
END:STANDARD
END:VTIMEZONE
BEGIN:VEVENT
DTSTART;VALUE=DATE:20260411
DTEND;VALUE=DATE:20260413
DTSTAMP:20260425T174416
CREATED:20260224T103840Z
LAST-MODIFIED:20260406T172402Z
UID:13097-1775865600-1776038399@pudelklub.sk
SUMMARY:2. MasterClass chovateľa 2026
DESCRIPTION:Info: https://skj.sk/sk/2-masterclass-chovatela-2026/
URL:https://pudelklub.sk/event/2-masterclass-chovatela/
CATEGORIES:Kynologické akcie
ATTACH;FMTTYPE=image/jpeg:https://pudelklub.sk/wp-content/uploads/2026/02/masterclass2.jpg
END:VEVENT
END:VCALENDAR