BEGIN:VCALENDAR
VERSION:2.0
PRODID:-//Slovenský klub chovateľov pudlov - ECPv5.14.0.4//NONSGML v1.0//EN
CALSCALE:GREGORIAN
METHOD:PUBLISH
X-WR-CALNAME:Slovenský klub chovateľov pudlov
X-ORIGINAL-URL:https://pudelklub.sk
X-WR-CALDESC:Udalosti pre Slovenský klub chovateľov pudlov
BEGIN:VTIMEZONE
TZID:Europe/Bratislava
BEGIN:DAYLIGHT
TZOFFSETFROM:+0100
TZOFFSETTO:+0200
TZNAME:CEST
DTSTART:20250330T010000
END:DAYLIGHT
BEGIN:STANDARD
TZOFFSETFROM:+0200
TZOFFSETTO:+0100
TZNAME:CET
DTSTART:20251026T010000
END:STANDARD
END:VTIMEZONE
BEGIN:VEVENT
DTSTART;VALUE=DATE:20251122
DTEND;VALUE=DATE:20251123
DTSTAMP:20260426T013850
CREATED:20250407T101526Z
LAST-MODIFIED:20250407T101526Z
UID:12476-1763769600-1763855999@pudelklub.sk
SUMMARY:Klubová výstava KCHP (bez CAC)\, Kojice (ČR)
DESCRIPTION:Rozhodca: Robert Kubeš (CZ) \nInfo: https://www.vystavykchp.cz/
URL:https://pudelklub.sk/event/klubova-vystava-kchp-bez-cac-kojice-cr-4/
CATEGORIES:Výstavy
END:VEVENT
END:VCALENDAR