BEGIN:VCALENDAR
VERSION:2.0
PRODID:-//Slovenský klub chovateľov pudlov - ECPv5.14.0.4//NONSGML v1.0//EN
CALSCALE:GREGORIAN
METHOD:PUBLISH
X-WR-CALNAME:Slovenský klub chovateľov pudlov
X-ORIGINAL-URL:https://pudelklub.sk
X-WR-CALDESC:Udalosti pre Slovenský klub chovateľov pudlov
BEGIN:VTIMEZONE
TZID:Europe/Bratislava
BEGIN:DAYLIGHT
TZOFFSETFROM:+0100
TZOFFSETTO:+0200
TZNAME:CEST
DTSTART:20250330T010000
END:DAYLIGHT
BEGIN:STANDARD
TZOFFSETFROM:+0200
TZOFFSETTO:+0100
TZNAME:CET
DTSTART:20251026T010000
END:STANDARD
END:VTIMEZONE
BEGIN:VEVENT
DTSTART;VALUE=DATE:20250926
DTEND;VALUE=DATE:20250929
DTSTAMP:20260426T050834
CREATED:20250716T135934Z
LAST-MODIFIED:20250716T135934Z
UID:12707-1758844800-1759103999@pudelklub.sk
SUMMARY:Víkend s pudlom SKCHP
DESCRIPTION:Ranč Z Polytanu\, Malý Lapáš
URL:https://pudelklub.sk/event/vikend-s-pudlom-skchp/
CATEGORIES:Klubové akcie
ORGANIZER;CN="SKCHP":MAILTO:info@pudelklub.sk
END:VEVENT
END:VCALENDAR