BEGIN:VCALENDAR
VERSION:2.0
PRODID:-//Slovenský klub chovateľov pudlov - ECPv5.14.0.4//NONSGML v1.0//EN
CALSCALE:GREGORIAN
METHOD:PUBLISH
X-WR-CALNAME:Slovenský klub chovateľov pudlov
X-ORIGINAL-URL:https://pudelklub.sk
X-WR-CALDESC:Udalosti pre Slovenský klub chovateľov pudlov
BEGIN:VTIMEZONE
TZID:Europe/Bratislava
BEGIN:DAYLIGHT
TZOFFSETFROM:+0100
TZOFFSETTO:+0200
TZNAME:CEST
DTSTART:20250330T010000
END:DAYLIGHT
BEGIN:STANDARD
TZOFFSETFROM:+0200
TZOFFSETTO:+0100
TZNAME:CET
DTSTART:20251026T010000
END:STANDARD
END:VTIMEZONE
BEGIN:VEVENT
DTSTART;VALUE=DATE:20251129
DTEND;VALUE=DATE:20251201
DTSTAMP:20260426T013931
CREATED:20250102T184711Z
LAST-MODIFIED:20250102T184711Z
UID:12277-1764374400-1764547199@pudelklub.sk
SUMMARY:Zagreb Winter Classic (2xCACIB)
DESCRIPTION:Info: zagreb.hks.hr
URL:https://pudelklub.sk/event/zagreb-winter-classic-2xcacib/
CATEGORIES:Výstavy
END:VEVENT
END:VCALENDAR