BEGIN:VCALENDAR
VERSION:2.0
PRODID:-//Slovenský klub chovateľov pudlov - ECPv5.14.0.4//NONSGML v1.0//EN
CALSCALE:GREGORIAN
METHOD:PUBLISH
X-WR-CALNAME:Slovenský klub chovateľov pudlov
X-ORIGINAL-URL:https://pudelklub.sk
X-WR-CALDESC:Udalosti pre Slovenský klub chovateľov pudlov
BEGIN:VTIMEZONE
TZID:Europe/Bratislava
BEGIN:DAYLIGHT
TZOFFSETFROM:+0100
TZOFFSETTO:+0200
TZNAME:CEST
DTSTART:20250330T010000
END:DAYLIGHT
BEGIN:STANDARD
TZOFFSETFROM:+0200
TZOFFSETTO:+0100
TZNAME:CET
DTSTART:20251026T010000
END:STANDARD
END:VTIMEZONE
BEGIN:VEVENT
DTSTART;VALUE=DATE:20251212
DTEND;VALUE=DATE:20251215
DTSTAMP:20260425T235735
CREATED:20250102T182201Z
LAST-MODIFIED:20250407T100030Z
UID:12254-1765497600-1765756799@pudelklub.sk
SUMMARY:TrioCACIB Praha
DESCRIPTION:Rozhodcovia: Bottagisio (IT)\, Ohlsson (SW)\, Wonish (AT) \nInfo: www.praguexpodog.cz
URL:https://pudelklub.sk/event/triocacib-praha-2/
CATEGORIES:Výstavy
END:VEVENT
END:VCALENDAR