BEGIN:VCALENDAR
VERSION:2.0
PRODID:-//Slovenský klub chovateľov pudlov - ECPv5.14.0.4//NONSGML v1.0//EN
CALSCALE:GREGORIAN
METHOD:PUBLISH
X-WR-CALNAME:Slovenský klub chovateľov pudlov
X-ORIGINAL-URL:https://pudelklub.sk
X-WR-CALDESC:Udalosti pre Slovenský klub chovateľov pudlov
BEGIN:VTIMEZONE
TZID:Europe/Bratislava
BEGIN:DAYLIGHT
TZOFFSETFROM:+0100
TZOFFSETTO:+0200
TZNAME:CEST
DTSTART:20260329T010000
END:DAYLIGHT
BEGIN:STANDARD
TZOFFSETFROM:+0200
TZOFFSETTO:+0100
TZNAME:CET
DTSTART:20261025T010000
END:STANDARD
END:VTIMEZONE
BEGIN:VEVENT
DTSTART;VALUE=DATE:20260516
DTEND;VALUE=DATE:20260518
DTSTAMP:20260425T161818
CREATED:20251120T162812Z
LAST-MODIFIED:20251120T162812Z
UID:12960-1778889600-1779062399@pudelklub.sk
SUMMARY:Novohraddog Lučenec (2xCACIB)
DESCRIPTION:Info: https://www.novohraddog.sk/
URL:https://pudelklub.sk/event/novohraddog-lucenec-2xcacib-2/
LOCATION:Lučenec\, Lučenec\, Slovenská republika
CATEGORIES:Výstavy
END:VEVENT
END:VCALENDAR