BEGIN:VCALENDAR
VERSION:2.0
PRODID:-//Slovenský klub chovateľov pudlov - ECPv5.14.0.4//NONSGML v1.0//EN
CALSCALE:GREGORIAN
METHOD:PUBLISH
X-WR-CALNAME:Slovenský klub chovateľov pudlov
X-ORIGINAL-URL:https://pudelklub.sk
X-WR-CALDESC:Udalosti pre Slovenský klub chovateľov pudlov
BEGIN:VTIMEZONE
TZID:Europe/Bratislava
BEGIN:DAYLIGHT
TZOFFSETFROM:+0100
TZOFFSETTO:+0200
TZNAME:CEST
DTSTART:20250330T010000
END:DAYLIGHT
BEGIN:STANDARD
TZOFFSETFROM:+0200
TZOFFSETTO:+0100
TZNAME:CET
DTSTART:20251026T010000
END:STANDARD
END:VTIMEZONE
BEGIN:VEVENT
DTSTART;VALUE=DATE:20251218
DTEND;VALUE=DATE:20251222
DTSTAMP:20260425T235339
CREATED:20240903T184149Z
LAST-MODIFIED:20251015T095948Z
UID:12046-1766016000-1766361599@pudelklub.sk
SUMMARY:NITRADOG Christmas Cup (4xCACIB)
DESCRIPTION:Info: https://www.nitradog.sk/vystavy/christmas-cup-4x-cacib-2025/
URL:https://pudelklub.sk/event/nitradog-4xcacib/
LOCATION:Nitra – Agrokomplex\, Akademická 599\, Nitra\, 94901\, Slovenská republika
CATEGORIES:Výstavy
ATTACH;FMTTYPE=image/jpeg:https://pudelklub.sk/wp-content/uploads/2024/09/nitradog.jpg
END:VEVENT
END:VCALENDAR