BEGIN:VCALENDAR
VERSION:2.0
PRODID:-//Slovenský klub chovateľov pudlov - ECPv5.14.0.4//NONSGML v1.0//EN
CALSCALE:GREGORIAN
METHOD:PUBLISH
X-WR-CALNAME:Slovenský klub chovateľov pudlov
X-ORIGINAL-URL:https://pudelklub.sk
X-WR-CALDESC:Udalosti pre Slovenský klub chovateľov pudlov
BEGIN:VTIMEZONE
TZID:Europe/Bratislava
BEGIN:DAYLIGHT
TZOFFSETFROM:+0100
TZOFFSETTO:+0200
TZNAME:CEST
DTSTART:20260329T010000
END:DAYLIGHT
BEGIN:STANDARD
TZOFFSETFROM:+0200
TZOFFSETTO:+0100
TZNAME:CET
DTSTART:20261025T010000
END:STANDARD
END:VTIMEZONE
BEGIN:VEVENT
DTSTART;TZID=Europe/Bratislava:20260111T080000
DTEND;TZID=Europe/Bratislava:20260111T170000
DTSTAMP:20260425T221651
CREATED:20251120T164701Z
LAST-MODIFIED:20251120T164701Z
UID:12998-1768118400-1768150800@pudelklub.sk
SUMMARY:Národná výstava (CAC)\, Brno
DESCRIPTION:Info: https://www.cmkuvystavy.cz/
URL:https://pudelklub.sk/event/narodna-vystava-cac-brno/
LOCATION:Brno – BVV\, Brno\, Česká republika
CATEGORIES:Výstavy
END:VEVENT
END:VCALENDAR