BEGIN:VCALENDAR
VERSION:2.0
PRODID:-//Slovenský klub chovateľov pudlov - ECPv5.14.0.4//NONSGML v1.0//EN
CALSCALE:GREGORIAN
METHOD:PUBLISH
X-WR-CALNAME:Slovenský klub chovateľov pudlov
X-ORIGINAL-URL:https://pudelklub.sk
X-WR-CALDESC:Udalosti pre Slovenský klub chovateľov pudlov
BEGIN:VTIMEZONE
TZID:Europe/Bratislava
BEGIN:DAYLIGHT
TZOFFSETFROM:+0100
TZOFFSETTO:+0200
TZNAME:CEST
DTSTART:20250330T010000
END:DAYLIGHT
BEGIN:STANDARD
TZOFFSETFROM:+0200
TZOFFSETTO:+0100
TZNAME:CET
DTSTART:20251026T010000
END:STANDARD
END:VTIMEZONE
BEGIN:VEVENT
DTSTART;VALUE=DATE:20251011
DTEND;VALUE=DATE:20251013
DTSTAMP:20260426T033426
CREATED:20250701T092733Z
LAST-MODIFIED:20250716T144619Z
UID:12667-1760140800-1760313599@pudelklub.sk
SUMMARY:EUROPEAN POODLE SHOW 2025
DESCRIPTION:Rozhodcovia: I.Sill\, I.B.de Ciabatti\, F.Leung \nInfo: https://zkwpbytom.pl/
URL:https://pudelklub.sk/event/european-poodle-show-2025/
CATEGORIES:Výstavy
ATTACH;FMTTYPE=image/jpeg:https://pudelklub.sk/wp-content/uploads/2025/07/EPS2025.jpg
END:VEVENT
END:VCALENDAR