BEGIN:VCALENDAR
VERSION:2.0
PRODID:-//Slovenský klub chovateľov pudlov - ECPv5.14.0.4//NONSGML v1.0//EN
CALSCALE:GREGORIAN
METHOD:PUBLISH
X-WR-CALNAME:Slovenský klub chovateľov pudlov
X-ORIGINAL-URL:https://pudelklub.sk
X-WR-CALDESC:Udalosti pre Slovenský klub chovateľov pudlov
BEGIN:VTIMEZONE
TZID:Europe/Bratislava
BEGIN:DAYLIGHT
TZOFFSETFROM:+0100
TZOFFSETTO:+0200
TZNAME:CEST
DTSTART:20260329T010000
END:DAYLIGHT
BEGIN:STANDARD
TZOFFSETFROM:+0200
TZOFFSETTO:+0100
TZNAME:CET
DTSTART:20261025T010000
END:STANDARD
END:VTIMEZONE
BEGIN:VEVENT
DTSTART;VALUE=DATE:20260621
DTEND;VALUE=DATE:20260622
DTSTAMP:20260425T203532
CREATED:20260209T100326Z
LAST-MODIFIED:20260209T100326Z
UID:13057-1782000000-1782086399@pudelklub.sk
SUMMARY:Členská schôdza SKCHP
DESCRIPTION:Miesto konania: Banská Bystrica
URL:https://pudelklub.sk/event/clenska-schodza-skchp-3/
CATEGORIES:Klubové akcie
ORGANIZER;CN="SKCHP":MAILTO:info@pudelklub.sk
END:VEVENT
END:VCALENDAR